BEGIN:VCALENDAR
PRODID:-//Sri Lanka Promotions//NONSGML v1.0//EN
VERSION:2.0
CALSCALE:GREGORIAN
METHOD:PUBLISH
X-WR-CALNAME:Sri Lanka Promotions
X-ORIGINAL-URL:https://srilanka-promotions.com
X-WR-CALDESC:Events for Sri Lanka Promotions
BEGIN:VEVENT
DTSTART:20120601T000000
DTEND:20120603T235900
DTSTAMP:20260420T224817
CREATED:20120601T205613
LAST-MODIFIED:20120601T205613
UID:229@https://srilanka-promotions.com
SUMMARY:Living in Style 2012 @ BMICH 1 - 3 Jun 2012
DESCRIPTION:Claimed to be the most exclusive home related exhibition of the year, Living in Style 2012 will be held at BMICH Exhibition Centre from 1 June to 3 June 2012.. For more information, visit [ https://srilanka-promotions.com/happenings/living-in-style-2012-bmich-1-3-jun-2012-229/ ]. 
LOCATION:
URL:https://srilanka-promotions.com/happenings/living-in-style-2012-bmich-1-3-jun-2012-229/
END:VEVENT
END:VCALENDAR