BEGIN:VCALENDAR
PRODID:-//Sri Lanka Promotions//NONSGML v1.0//EN
VERSION:2.0
CALSCALE:GREGORIAN
METHOD:PUBLISH
X-WR-CALNAME:Sri Lanka Promotions
X-ORIGINAL-URL:https://srilanka-promotions.com
X-WR-CALDESC:Events for Sri Lanka Promotions
BEGIN:VEVENT
DTSTART:20120602T000000
DTEND:20120615T235900
DTSTAMP:20260420T134000
CREATED:20120602T112116
LAST-MODIFIED:20120611T160633
UID:244@https://srilanka-promotions.com
SUMMARY:KFC Sri Lanka FREE Pepsi With Every Delivery 2 - 15 Jun 2012
DESCRIPTION:KFC Sri Lanka is giving away FREE 500ml Pepsi bottle with every KFC delivery order. This offer is valid on every delivery order at all outlets.. For more information, visit [ https://srilanka-promotions.com/dining-restaurants-food/kfc-sri-lanka-free-pepsi-with-every-delivery-2-8-jun-2012-244/ ]. 
LOCATION:
URL:https://srilanka-promotions.com/dining-restaurants-food/kfc-sri-lanka-free-pepsi-with-every-delivery-2-8-jun-2012-244/
END:VEVENT
END:VCALENDAR