BEGIN:VCALENDAR
PRODID:-//Sri Lanka Promotions//NONSGML v1.0//EN
VERSION:2.0
CALSCALE:GREGORIAN
METHOD:PUBLISH
X-WR-CALNAME:Sri Lanka Promotions
X-ORIGINAL-URL:https://srilanka-promotions.com
X-WR-CALDESC:Events for Sri Lanka Promotions
BEGIN:VEVENT
DTSTART:20120907T000000
DTEND:20120915T235900
DTSTAMP:20260419T151028
CREATED:20120908T211645
LAST-MODIFIED:20120908T211645
UID:2595@https://srilanka-promotions.com
SUMMARY:Dialog Mobile Phones & Smartphones Offers 7 - 15 Sep 2012
DESCRIPTION:Dialog is offering monthly payment plans for many smartphones with up to 36 months repayment period. 36 months payment plan option is only available from HSBC and Sampath Bank. For more information, visit [ https://srilanka-promotions.com/telecoms/dialog-mobile-phones-smartphones-offers-7-15-sep-2012-2595/ ]. 
LOCATION:
URL:https://srilanka-promotions.com/telecoms/dialog-mobile-phones-smartphones-offers-7-15-sep-2012-2595/
END:VEVENT
END:VCALENDAR