BEGIN:VCALENDAR
PRODID:-//Sri Lanka Promotions//NONSGML v1.0//EN
VERSION:2.0
CALSCALE:GREGORIAN
METHOD:PUBLISH
X-WR-CALNAME:Sri Lanka Promotions
X-ORIGINAL-URL:https://srilanka-promotions.com
X-WR-CALDESC:Events for Sri Lanka Promotions
BEGIN:VEVENT
DTSTART:20120515T000000
DTEND:20120515T235900
DTSTAMP:20260420T121329
CREATED:20120515T235159
LAST-MODIFIED:20120518T191732
UID:26@https://srilanka-promotions.com
SUMMARY:KFC Sri Lanka 50% Off 12pc Bucket Promotion 15 May 2012
DESCRIPTION:For just one day on 15 May 2012, KFC Sri lanka is offering the 12pc Bucket at 50% off! It will be going for Rs 1,095 on 15 May 2012.. For more information, visit [ https://srilanka-promotions.com/dining-restaurants-food/kfc-sri-lanka-50-off-12pc-bucket-promotion-15-may-2012-26/ ]. 
LOCATION:
URL:https://srilanka-promotions.com/dining-restaurants-food/kfc-sri-lanka-50-off-12pc-bucket-promotion-15-may-2012-26/
END:VEVENT
END:VCALENDAR