BEGIN:VCALENDAR
PRODID:-//Sri Lanka Promotions//NONSGML v1.0//EN
VERSION:2.0
CALSCALE:GREGORIAN
METHOD:PUBLISH
X-WR-CALNAME:Sri Lanka Promotions
X-ORIGINAL-URL:https://srilanka-promotions.com
X-WR-CALDESC:Events for Sri Lanka Promotions
BEGIN:VEVENT
DTSTART:20121012T000000
DTEND:20121031T235900
DTSTAMP:20260420T233844
CREATED:20121015T225635
LAST-MODIFIED:20121102T171637
UID:3456@https://srilanka-promotions.com
SUMMARY:Pizza Hut 30% Off Bill For HNB Credit Cardmembers 12 - 31 Oct 2012
DESCRIPTION:Pizza Hut Sri Lanka is giving away 30% off your bill when you use your HNB credit card to pay your bill. This promotion is on till 31 October 2012. . For more information, visit [ https://srilanka-promotions.com/credit-cards-loans/pizza-hut-30-off-bill-for-hnb-credit-cardmembers-12-31-oct-2012-3456/ ]. 
LOCATION:
URL:https://srilanka-promotions.com/credit-cards-loans/pizza-hut-30-off-bill-for-hnb-credit-cardmembers-12-31-oct-2012-3456/
END:VEVENT
END:VCALENDAR