BEGIN:VCALENDAR
PRODID:-//Sri Lanka Promotions//NONSGML v1.0//EN
VERSION:2.0
CALSCALE:GREGORIAN
METHOD:PUBLISH
X-WR-CALNAME:Sri Lanka Promotions
X-ORIGINAL-URL:https://srilanka-promotions.com
X-WR-CALDESC:Events for Sri Lanka Promotions
BEGIN:VEVENT
DTSTART:20121101T000000
DTEND:20121130T235900
DTSTAMP:20260422T100600
CREATED:20121107T234458
LAST-MODIFIED:20121107T234458
UID:4036@https://srilanka-promotions.com
SUMMARY:Kelly Felder 10% Discount For Checking In Promo 1 - 30 Nov 2012
DESCRIPTION:Check in at Kelly Felder outlets and get 10% off from 1 November to 30 November 2012. Simply flash your check-in to the cashier and you get the discount!. For more information, visit [ https://srilanka-promotions.com/fashion-accessories/kelly-felder-10-discount-for-checking-in-promo-1-30-nov-2012-4036/ ]. 
LOCATION:
URL:https://srilanka-promotions.com/fashion-accessories/kelly-felder-10-discount-for-checking-in-promo-1-30-nov-2012-4036/
END:VEVENT
END:VCALENDAR