BEGIN:VCALENDAR
PRODID:-//Sri Lanka Promotions//NONSGML v1.0//EN
VERSION:2.0
CALSCALE:GREGORIAN
METHOD:PUBLISH
X-WR-CALNAME:Sri Lanka Promotions
X-ORIGINAL-URL:https://srilanka-promotions.com
X-WR-CALDESC:Events for Sri Lanka Promotions
BEGIN:VEVENT
DTSTART:20120601T000000
DTEND:20120630T235900
DTSTAMP:20260422T182453
CREATED:20120611T155354
LAST-MODIFIED:20120611T155354
UID:405@https://srilanka-promotions.com
SUMMARY:Bajaj Three Wheeler Free Spare Parts Promotion 1 - 30 Jun 2012
DESCRIPTION:BAJAJ Three Wheeler is now going at Rs 464,375, excluding VAT and is liable to change without notice. For a limited period, get a FREE valuable set of genuine Bajaj spare parts with every booking. For more information, visit [ https://srilanka-promotions.com/motor-vehicles/bajaj-three-wheeler-free-spare-parts-promotion-1-30-jun-2012-405/ ]. 
LOCATION:
URL:https://srilanka-promotions.com/motor-vehicles/bajaj-three-wheeler-free-spare-parts-promotion-1-30-jun-2012-405/
END:VEVENT
END:VCALENDAR