BEGIN:VCALENDAR
PRODID:-//Sri Lanka Promotions//NONSGML v1.0//EN
VERSION:2.0
CALSCALE:GREGORIAN
METHOD:PUBLISH
X-WR-CALNAME:Sri Lanka Promotions
X-ORIGINAL-URL:https://srilanka-promotions.com
X-WR-CALDESC:Events for Sri Lanka Promotions
BEGIN:VEVENT
DTSTART:20120621T000000
DTEND:20120624T235900
DTSTAMP:20260421T015320
CREATED:20120612T132939
LAST-MODIFIED:20120612T133001
UID:427@https://srilanka-promotions.com
SUMMARY:Kandy Book Fair 2012 @ Kandy City Center 21 - 24 Jun 2012
DESCRIPTION:Sri Lanka Book Publishers Association will be having the Kandy Book Fair 2012 from 21 June to 24 June, 9am to 7pm at Kandy City Center.. For more information, visit [ https://srilanka-promotions.com/books/kandy-book-fair-2012-kandy-city-center-21-24-jun-2012-427/ ]. 
LOCATION:
URL:https://srilanka-promotions.com/books/kandy-book-fair-2012-kandy-city-center-21-24-jun-2012-427/
END:VEVENT
END:VCALENDAR