BEGIN:VCALENDAR
PRODID:-//Sri Lanka Promotions//NONSGML v1.0//EN
VERSION:2.0
CALSCALE:GREGORIAN
METHOD:PUBLISH
X-WR-CALNAME:Sri Lanka Promotions
X-ORIGINAL-URL:https://srilanka-promotions.com
X-WR-CALDESC:Events for Sri Lanka Promotions
BEGIN:VEVENT
DTSTART:20120612T000000
DTEND:20120616T235900
DTSTAMP:20260420T121433
CREATED:20120612T212159
LAST-MODIFIED:20120612T213525
UID:434@https://srilanka-promotions.com
SUMMARY:Avirate 30% Off Bottoms Promotion 12 - 16 Jun 2012
DESCRIPTION:Avirate is having a Summer Love promotion with up to 30% off on all bottoms including skirts, leggings, pants, jeans and shorts, available at all its outlets!. For more information, visit [ https://srilanka-promotions.com/fashion-accessories/avirate-30-off-bottoms-promotion-12-16-jun-2012-434/ ]. 
LOCATION:
URL:https://srilanka-promotions.com/fashion-accessories/avirate-30-off-bottoms-promotion-12-16-jun-2012-434/
END:VEVENT
END:VCALENDAR