BEGIN:VCALENDAR
PRODID:-//Sri Lanka Promotions//NONSGML v1.0//EN
VERSION:2.0
CALSCALE:GREGORIAN
METHOD:PUBLISH
X-WR-CALNAME:Sri Lanka Promotions
X-ORIGINAL-URL:https://srilanka-promotions.com
X-WR-CALDESC:Events for Sri Lanka Promotions
BEGIN:VEVENT
DTSTART:20121207T000000
DTEND:20121216T235900
DTSTAMP:20260423T145516
CREATED:20121208T004339
LAST-MODIFIED:20131017T184106
UID:4592@https://srilanka-promotions.com
SUMMARY:Etisalat Apple iPad Mini 10% Off Pre-Order Offer 7 - 16 Dec 2012
DESCRIPTION:Etisalat is now accepting pre-orders for the DC HSPA+ enabled Apple iPad Mini till 16 December 2012.. For more information, visit [ https://srilanka-promotions.com/computers-accessories-software/etisalat-apple-ipad-mini-10-off-pre-order-offer-7-16-dec-2012-4592/ ]. 
LOCATION:
URL:https://srilanka-promotions.com/computers-accessories-software/etisalat-apple-ipad-mini-10-off-pre-order-offer-7-16-dec-2012-4592/
END:VEVENT
END:VCALENDAR