BEGIN:VCALENDAR
PRODID:-//Sri Lanka Promotions//NONSGML v1.0//EN
VERSION:2.0
CALSCALE:GREGORIAN
METHOD:PUBLISH
X-WR-CALNAME:Sri Lanka Promotions
X-ORIGINAL-URL:https://srilanka-promotions.com
X-WR-CALDESC:Events for Sri Lanka Promotions
BEGIN:VEVENT
DTSTART:20120519T000000
DTEND:20121028T235900
DTSTAMP:20260421T100513
CREATED:20120519T181420
LAST-MODIFIED:20121014T173707
UID:46@https://srilanka-promotions.com
SUMMARY:Pizza Hut Sri Lanka FREE Regular Pizza With Every Large Pizza 19 May 2012
DESCRIPTION:Pizza Hut's One for One offer now lets you have a FREE Regular pizza for every Large pizza you take away! Valid from 3pm - 5pm on weekdays only.. For more information, visit [ https://srilanka-promotions.com/dining-restaurants-food/pizza-hut-sri-lanka-free-regular-prizza-with-every-large-pizza-19-may-2012-46/ ]. 
LOCATION:
URL:https://srilanka-promotions.com/dining-restaurants-food/pizza-hut-sri-lanka-free-regular-prizza-with-every-large-pizza-19-may-2012-46/
END:VEVENT
END:VCALENDAR