BEGIN:VCALENDAR
PRODID:-//Sri Lanka Promotions//NONSGML v1.0//EN
VERSION:2.0
CALSCALE:GREGORIAN
METHOD:PUBLISH
X-WR-CALNAME:Sri Lanka Promotions
X-ORIGINAL-URL:https://srilanka-promotions.com
X-WR-CALDESC:Events for Sri Lanka Promotions
BEGIN:VEVENT
DTSTART:20120615T000000
DTEND:20120617T235900
DTSTAMP:20260421T034724
CREATED:20120614T161141
LAST-MODIFIED:20120614T161230
UID:464@https://srilanka-promotions.com
SUMMARY:ODEL Sale Rs 300 Promotion @ Shalika Hall 15 - 17 Jun 2012
DESCRIPTION:ODEL is having a promotion of all items just going below Rs 300 at Shalika Hall from 15 June to 17 June 2012, 9am to 8pm.. For more information, visit [ https://srilanka-promotions.com/fashion-accessories/odel-sale-rs-300-promotion-shalika-hall-15-17-jun-2012-464/ ]. 
LOCATION:
URL:https://srilanka-promotions.com/fashion-accessories/odel-sale-rs-300-promotion-shalika-hall-15-17-jun-2012-464/
END:VEVENT
END:VCALENDAR