BEGIN:VCALENDAR
PRODID:-//Sri Lanka Promotions//NONSGML v1.0//EN
VERSION:2.0
CALSCALE:GREGORIAN
METHOD:PUBLISH
X-WR-CALNAME:Sri Lanka Promotions
X-ORIGINAL-URL:https://srilanka-promotions.com
X-WR-CALDESC:Events for Sri Lanka Promotions
BEGIN:VEVENT
DTSTART:20121226T000000
DTEND:20121226T235900
DTSTAMP:20260420T215408
CREATED:20121224T201245
LAST-MODIFIED:20121224T201245
UID:4723@https://srilanka-promotions.com
SUMMARY:Nolimit 15% Off Storewide Promotion 26 Dec 2012
DESCRIPTION:Nolimit will be having a post Christmas 15% off discount promotion on all products, accessories and gift vouchers on 26 December 2012.. For more information, visit [ https://srilanka-promotions.com/fashion-accessories/nolimit-15-off-storewide-promotion-26-dec-2012-4723/ ]. 
LOCATION:
URL:https://srilanka-promotions.com/fashion-accessories/nolimit-15-off-storewide-promotion-26-dec-2012-4723/
END:VEVENT
END:VCALENDAR