BEGIN:VCALENDAR
PRODID:-//Sri Lanka Promotions//NONSGML v1.0//EN
VERSION:2.0
CALSCALE:GREGORIAN
METHOD:PUBLISH
X-WR-CALNAME:Sri Lanka Promotions
X-ORIGINAL-URL:https://srilanka-promotions.com
X-WR-CALDESC:Events for Sri Lanka Promotions
BEGIN:VEVENT
DTSTART:20120615T000000
DTEND:20120617T235900
DTSTAMP:20260419T234938
CREATED:20120614T225350
LAST-MODIFIED:20120614T225737
UID:492@https://srilanka-promotions.com
SUMMARY:Pizza Hut Sri Lanka Dad Dines FREE Promotion 15 - 17 Jun 2012
DESCRIPTION:Pizza Hut Sri Lanka is celebrating Father's Day from 15 June to 17 June with a Father Dines FREE promotion. What's more, all delivery and take-away orders will enjoy a free portion of lava cake with every large pan pizza ordered. For more information, visit [ https://srilanka-promotions.com/dining-restaurants-food/pizza-hut-sri-lanka-dad-dines-free-promotion-15-17-jun-2012-492/ ]. 
LOCATION:
URL:https://srilanka-promotions.com/dining-restaurants-food/pizza-hut-sri-lanka-dad-dines-free-promotion-15-17-jun-2012-492/
END:VEVENT
END:VCALENDAR