BEGIN:VCALENDAR
PRODID:-//Sri Lanka Promotions//NONSGML v1.0//EN
VERSION:2.0
CALSCALE:GREGORIAN
METHOD:PUBLISH
X-WR-CALNAME:Sri Lanka Promotions
X-ORIGINAL-URL:https://srilanka-promotions.com
X-WR-CALDESC:Events for Sri Lanka Promotions
BEGIN:VEVENT
DTSTART:20130204T000000
DTEND:20130228T235900
DTSTAMP:20260419T151021
CREATED:20130205T070941
LAST-MODIFIED:20130207T010313
UID:4994@https://srilanka-promotions.com
SUMMARY:Norman Up To 10% Off Antivirus & Security Suite Coupon Codes 4 - 28 Feb 2013
DESCRIPTION:Here are some coupon codes to net up to 10% OFF on selected Norman security products. . For more information, visit [ https://srilanka-promotions.com/computers-accessories-software/norman-up-to-10-off-antivirus-security-suite-coupon-codes-4-28-feb-2013-4994/ ]. 
LOCATION:
URL:https://srilanka-promotions.com/computers-accessories-software/norman-up-to-10-off-antivirus-security-suite-coupon-codes-4-28-feb-2013-4994/
END:VEVENT
END:VCALENDAR