BEGIN:VCALENDAR
PRODID:-//Sri Lanka Promotions//NONSGML v1.0//EN
VERSION:2.0
CALSCALE:GREGORIAN
METHOD:PUBLISH
X-WR-CALNAME:Sri Lanka Promotions
X-ORIGINAL-URL:https://srilanka-promotions.com
X-WR-CALDESC:Events for Sri Lanka Promotions
BEGIN:VEVENT
DTSTART:20130213T000000
DTEND:20130214T235900
DTSTAMP:20260419T151131
CREATED:20130207T132225
LAST-MODIFIED:20130207T132225
UID:4998@https://srilanka-promotions.com
SUMMARY:Kelly Felder 20% Off Red Sale 13 - 14 Feb 2013
DESCRIPTION:Kelly Felder will be having a RED SALE on 13 and 14 February 2013 with 30% off for Club Members and 20% off for the public.. For more information, visit [ https://srilanka-promotions.com/fashion-accessories/kelly-felder-20-off-red-sale-13-14-feb-2013-4998/ ]. 
LOCATION:
URL:https://srilanka-promotions.com/fashion-accessories/kelly-felder-20-off-red-sale-13-14-feb-2013-4998/
END:VEVENT
END:VCALENDAR