BEGIN:VCALENDAR
PRODID:-//Sri Lanka Promotions//NONSGML v1.0//EN
VERSION:2.0
CALSCALE:GREGORIAN
METHOD:PUBLISH
X-WR-CALNAME:Sri Lanka Promotions
X-ORIGINAL-URL:https://srilanka-promotions.com
X-WR-CALDESC:Events for Sri Lanka Promotions
BEGIN:VEVENT
DTSTART:20130206T000000
DTEND:20130215T235900
DTSTAMP:20260419T151021
CREATED:20130207T184823
LAST-MODIFIED:20130207T184823
UID:5016@https://srilanka-promotions.com
SUMMARY:NoLimit 15% Off LICC Jeans Promotion 6 - 15 Feb 2013
DESCRIPTION:NoLimit is having a Special Valentine's day offer - Purchase LICC branded Jeans and enjoy a 15% discount on your purchase. For more information, visit [ https://srilanka-promotions.com/fashion-accessories/nolimit-15-off-licc-jeans-promotion-6-15-feb-2013-5016/ ]. 
LOCATION:
URL:https://srilanka-promotions.com/fashion-accessories/nolimit-15-off-licc-jeans-promotion-6-15-feb-2013-5016/
END:VEVENT
END:VCALENDAR