BEGIN:VCALENDAR
PRODID:-//Sri Lanka Promotions//NONSGML v1.0//EN
VERSION:2.0
CALSCALE:GREGORIAN
METHOD:PUBLISH
X-WR-CALNAME:Sri Lanka Promotions
X-ORIGINAL-URL:https://srilanka-promotions.com
X-WR-CALDESC:Events for Sri Lanka Promotions
BEGIN:VEVENT
DTSTART:20130212T000000
DTEND:20130212T235900
DTSTAMP:20260419T151146
CREATED:20130212T093321
LAST-MODIFIED:20130222T121755
UID:5034@https://srilanka-promotions.com
SUMMARY:GOG $3.99 RollerCoaster Tycoon 2 PC Game 60% Off Promotion 12 Feb 2013
DESCRIPTION:RollerCoaster Tycoon 2, a masterfully-crafted sequel bringing even more amusement park design options to the classic managerial sim series, is available at 60% off. For more information, visit [ https://srilanka-promotions.com/computers-accessories-software/gog-3-99-rollercoaster-tycoon-2-pc-game-60-off-promotion-12-feb-2013-5034/ ]. 
LOCATION:
URL:https://srilanka-promotions.com/computers-accessories-software/gog-3-99-rollercoaster-tycoon-2-pc-game-60-off-promotion-12-feb-2013-5034/
END:VEVENT
END:VCALENDAR