BEGIN:VCALENDAR
PRODID:-//Sri Lanka Promotions//NONSGML v1.0//EN
VERSION:2.0
CALSCALE:GREGORIAN
METHOD:PUBLISH
X-WR-CALNAME:Sri Lanka Promotions
X-ORIGINAL-URL:https://srilanka-promotions.com
X-WR-CALDESC:Events for Sri Lanka Promotions
BEGIN:VEVENT
DTSTART:20130217T000000
DTEND:20130331T235900
DTSTAMP:20260419T151125
CREATED:20130217T140208
LAST-MODIFIED:20130331T123313
UID:5052@https://srilanka-promotions.com
SUMMARY:Domino's Pizza 50% Off Second Pizza Promotion 17 Feb 2013
DESCRIPTION:Double your joy at half the price at Domino's Pizza! Buy a large pizza and get 50% off on the second pizza. Valid for Hand Tossed Second pizza, any size. For more information, visit [ https://srilanka-promotions.com/dining-restaurants-food/dominos-pizza-50-off-second-pizza-promotion-17-feb-2013-5052/ ]. 
LOCATION:
URL:https://srilanka-promotions.com/dining-restaurants-food/dominos-pizza-50-off-second-pizza-promotion-17-feb-2013-5052/
END:VEVENT
END:VCALENDAR