BEGIN:VCALENDAR
PRODID:-//Sri Lanka Promotions//NONSGML v1.0//EN
VERSION:2.0
CALSCALE:GREGORIAN
METHOD:PUBLISH
X-WR-CALNAME:Sri Lanka Promotions
X-ORIGINAL-URL:https://srilanka-promotions.com
X-WR-CALDESC:Events for Sri Lanka Promotions
BEGIN:VEVENT
DTSTART:20130220T000000
DTEND:20130228T235900
DTSTAMP:20260419T151028
CREATED:20130221T111201
LAST-MODIFIED:20130320T190324
UID:5061@https://srilanka-promotions.com
SUMMARY:SriLankan Airlines Dubai Air Fares Promotion 20 - 28 Feb 2013
DESCRIPTION:SriLankan Airlines is offering you a special discount for every Economy Class Booking to Dubai, made online between 20 February to 28 February 2013.. For more information, visit [ https://srilanka-promotions.com/airlines-flights/srilankan-airlines-dubai-air-fares-promotion-20-28-feb-2013-5061/ ]. 
LOCATION:
URL:https://srilanka-promotions.com/airlines-flights/srilankan-airlines-dubai-air-fares-promotion-20-28-feb-2013-5061/
END:VEVENT
END:VCALENDAR