BEGIN:VCALENDAR
PRODID:-//Sri Lanka Promotions//NONSGML v1.0//EN
VERSION:2.0
CALSCALE:GREGORIAN
METHOD:PUBLISH
X-WR-CALNAME:Sri Lanka Promotions
X-ORIGINAL-URL:https://srilanka-promotions.com
X-WR-CALDESC:Events for Sri Lanka Promotions
BEGIN:VEVENT
DTSTART:20130222T000000
DTEND:20130225T235900
DTSTAMP:20260419T151151
CREATED:20130222T214124
LAST-MODIFIED:20130222T191326
UID:5066@https://srilanka-promotions.com
SUMMARY:Apogee Classic Shooter Games 60% Off Promotion @ GOG 22 - 25 Feb 2013
DESCRIPTION:Five action-packed FPS games, three rampage-ready platformers, and one fast-paced space-fighter sim, all for your explosive pleasure and blazing satisfaction.. For more information, visit [ https://srilanka-promotions.com/computers-accessories-software/apogee-classic-shooter-games-60-off-promotion-22-25-feb-2013-5066/ ]. 
LOCATION:
URL:https://srilanka-promotions.com/computers-accessories-software/apogee-classic-shooter-games-60-off-promotion-22-25-feb-2013-5066/
END:VEVENT
END:VCALENDAR