BEGIN:VCALENDAR
PRODID:-//Sri Lanka Promotions//NONSGML v1.0//EN
VERSION:2.0
CALSCALE:GREGORIAN
METHOD:PUBLISH
X-WR-CALNAME:Sri Lanka Promotions
X-ORIGINAL-URL:https://srilanka-promotions.com
X-WR-CALDESC:Events for Sri Lanka Promotions
BEGIN:VEVENT
DTSTART:20120616T000000
DTEND:20120708T235900
DTSTAMP:20260420T234625
CREATED:20120616T214844
LAST-MODIFIED:20120629T180940
UID:526@https://srilanka-promotions.com
SUMMARY:KFC Sri Lanka FREE 2.5L Pepsi Bottle With Every 12pc Bucket Purchase 16 Jun - 8 July 2012
DESCRIPTION:KFC Sri Lanka is having a "Crunch In Chill Out" promotion - buy a 12pc bucket of chicken and get a 2.25 litre Pepsi bottle FREE.. For more information, visit [ https://srilanka-promotions.com/dining-restaurants-food/kfc-sri-lanka-free-2-5l-pepsi-bottle-with-every-12pc-bucket-purchase-16-29-jun-2012-526/ ]. 
LOCATION:
URL:https://srilanka-promotions.com/dining-restaurants-food/kfc-sri-lanka-free-2-5l-pepsi-bottle-with-every-12pc-bucket-purchase-16-29-jun-2012-526/
END:VEVENT
END:VCALENDAR