BEGIN:VCALENDAR
PRODID:-//Sri Lanka Promotions//NONSGML v1.0//EN
VERSION:2.0
CALSCALE:GREGORIAN
METHOD:PUBLISH
X-WR-CALNAME:Sri Lanka Promotions
X-ORIGINAL-URL:https://srilanka-promotions.com
X-WR-CALDESC:Events for Sri Lanka Promotions
BEGIN:VEVENT
DTSTART:20130327T000000
DTEND:20130331T235900
DTSTAMP:20260423T163320
CREATED:20130326T124838
LAST-MODIFIED:20130331T123359
UID:5261@https://srilanka-promotions.com
SUMMARY:SriLankan Airlines 30% Off Air Fares Promotion @ Damso Mela Ambalangoda 27 - 31 Mar 2013
DESCRIPTION:Get 30% off to ANY online destination on SriLankan Airlines by registering at Damso Mela 2013, organised by Dharmasoka College, Ambalangoda from the 27 March to 31 March at Ambalangoda Public Grounds. For more information, visit [ https://srilanka-promotions.com/airlines-flights/srilankan-airlines-30-off-air-fares-promotion-damso-mela-ambalangoda-27-31-mar-2013-5261/ ]. 
LOCATION:
URL:https://srilanka-promotions.com/airlines-flights/srilankan-airlines-30-off-air-fares-promotion-damso-mela-ambalangoda-27-31-mar-2013-5261/
END:VEVENT
END:VCALENDAR