BEGIN:VCALENDAR
PRODID:-//Sri Lanka Promotions//NONSGML v1.0//EN
VERSION:2.0
CALSCALE:GREGORIAN
METHOD:PUBLISH
X-WR-CALNAME:Sri Lanka Promotions
X-ORIGINAL-URL:https://srilanka-promotions.com
X-WR-CALDESC:Events for Sri Lanka Promotions
BEGIN:VEVENT
DTSTART:20130424T000000
DTEND:20130630T235900
DTSTAMP:20260424T011513
CREATED:20130424T131834
LAST-MODIFIED:20130424T103118
UID:5500@https://srilanka-promotions.com
SUMMARY:CyberLink PowerDVD $5 Off Coupon Code 24 Apr - 30 Jun 2013
DESCRIPTION:CyberLink is offering a $5 off coupon code for PowerDVD 13 (Ultra, Pro, Deluxe( for a limited time.. For more information, visit [ https://srilanka-promotions.com/computers-accessories-software/cyberlink-powerdvd-5-off-coupon-code-24-apr-30-jun-2013-5500/ ]. 
LOCATION:
URL:https://srilanka-promotions.com/computers-accessories-software/cyberlink-powerdvd-5-off-coupon-code-24-apr-30-jun-2013-5500/
END:VEVENT
END:VCALENDAR