BEGIN:VCALENDAR
PRODID:-//Sri Lanka Promotions//NONSGML v1.0//EN
VERSION:2.0
CALSCALE:GREGORIAN
METHOD:PUBLISH
X-WR-CALNAME:Sri Lanka Promotions
X-ORIGINAL-URL:https://srilanka-promotions.com
X-WR-CALDESC:Events for Sri Lanka Promotions
BEGIN:VEVENT
DTSTART:20130510T000000
DTEND:20130630T235900
DTSTAMP:20260419T180951
CREATED:20130611T094511
LAST-MODIFIED:20130610T225022
UID:5628@https://srilanka-promotions.com
SUMMARY:American Express 25% Off Jewellery Offers For Nations Trust Bank Cardmembers 10 May - 30 Jun 2013
DESCRIPTION:Enjoy 25% savings at the finest jewelley stores with your American Expres Card. For more information, visit [ https://srilanka-promotions.com/jewellery/american-express-25-off-jewellery-offers-for-nations-trust-bank-cardmembers-10-may-30-jun-2013-5628/ ]. 
LOCATION:
URL:https://srilanka-promotions.com/jewellery/american-express-25-off-jewellery-offers-for-nations-trust-bank-cardmembers-10-may-30-jun-2013-5628/
END:VEVENT
END:VCALENDAR