BEGIN:VCALENDAR
PRODID:-//Sri Lanka Promotions//NONSGML v1.0//EN
VERSION:2.0
CALSCALE:GREGORIAN
METHOD:PUBLISH
X-WR-CALNAME:Sri Lanka Promotions
X-ORIGINAL-URL:https://srilanka-promotions.com
X-WR-CALDESC:Events for Sri Lanka Promotions
BEGIN:VEVENT
DTSTART:20130614T000000
DTEND:20130624T235900
DTSTAMP:20260419T232725
CREATED:20130614T104833
LAST-MODIFIED:20130614T013256
UID:5679@https://srilanka-promotions.com
SUMMARY:Malwarebytes Anti-Malware Pro 20% Off Coupon Code 14 - 24 Jun 2013
DESCRIPTION:Malwarebytes Anti-Malware PRO detects and removes malware where even the best known anti-virus and anti-malware applications fail. Get 20% off with this coupon code for a limited period. For more information, visit [ https://srilanka-promotions.com/computers-accessories-software/malwarebytes-anti-malware-pro-20-off-coupon-code-14-24-jun-2013-5679/ ]. 
LOCATION:
URL:https://srilanka-promotions.com/computers-accessories-software/malwarebytes-anti-malware-pro-20-off-coupon-code-14-24-jun-2013-5679/
END:VEVENT
END:VCALENDAR