BEGIN:VCALENDAR
PRODID:-//Sri Lanka Promotions//NONSGML v1.0//EN
VERSION:2.0
CALSCALE:GREGORIAN
METHOD:PUBLISH
X-WR-CALNAME:Sri Lanka Promotions
X-ORIGINAL-URL:https://srilanka-promotions.com
X-WR-CALDESC:Events for Sri Lanka Promotions
BEGIN:VEVENT
DTSTART:20130704T000000
DTEND:20130705T235900
DTSTAMP:20260421T181111
CREATED:20130704T183502
LAST-MODIFIED:20130704T190501
UID:5754@https://srilanka-promotions.com
SUMMARY:GOG 85% Off Over 150 Games & 50% Off 500 Games ONE DAY Promo 4 - 5 Jul 2013
DESCRIPTION:GOG www.gog.com is throwing, for 24 hours, 500+ games are 50% off, and more than 150 games at up to 85% off till 5 July, 9pm. For more information, visit [ https://srilanka-promotions.com/computers-accessories-software/gog-85-off-over-150-games-50-off-500-games-one-day-promo-4-5-jul-2013-5754/ ]. 
LOCATION:
URL:https://srilanka-promotions.com/computers-accessories-software/gog-85-off-over-150-games-50-off-500-games-one-day-promo-4-5-jul-2013-5754/
END:VEVENT
END:VCALENDAR