BEGIN:VCALENDAR
PRODID:-//Sri Lanka Promotions//NONSGML v1.0//EN
VERSION:2.0
CALSCALE:GREGORIAN
METHOD:PUBLISH
X-WR-CALNAME:Sri Lanka Promotions
X-ORIGINAL-URL:https://srilanka-promotions.com
X-WR-CALDESC:Events for Sri Lanka Promotions
BEGIN:VEVENT
DTSTART:20130718T000000
DTEND:20130730T235900
DTSTAMP:20260421T162725
CREATED:20130720T104512
LAST-MODIFIED:20130720T020851
UID:5779@https://srilanka-promotions.com
SUMMARY:Go Daddy 32% OFF Web Hosting Coupon Code 18 - 30 Jul 2013
DESCRIPTION:Get a whopping 32% OFF your ENTIRE web hosting order with the coupon code below!. For more information, visit [ https://srilanka-promotions.com/computers-accessories-software/go-daddy-32-off-singapore-web-hosting-coupon-code-18-30-jul-2013-5779/ ]. 
LOCATION:
URL:https://srilanka-promotions.com/computers-accessories-software/go-daddy-32-off-singapore-web-hosting-coupon-code-18-30-jul-2013-5779/
END:VEVENT
END:VCALENDAR