BEGIN:VCALENDAR
PRODID:-//Sri Lanka Promotions//NONSGML v1.0//EN
VERSION:2.0
CALSCALE:GREGORIAN
METHOD:PUBLISH
X-WR-CALNAME:Sri Lanka Promotions
X-ORIGINAL-URL:https://srilanka-promotions.com
X-WR-CALDESC:Events for Sri Lanka Promotions
BEGIN:VEVENT
DTSTART:20130803T000000
DTEND:20130902T235900
DTSTAMP:20260425T172904
CREATED:20130810T092350
LAST-MODIFIED:20130809T174559
UID:5834@https://srilanka-promotions.com
SUMMARY:Nero Software Up To 50% Off Coupon Codes 3 Aug - 2 Sep 2013
DESCRIPTION:Nero creates software applications and platforms that help consumers simply enjoy their photos, videos and music. Use the codes below to enjoy up to 50% off for a limited time!. For more information, visit [ https://srilanka-promotions.com/computers-accessories-software/nero-software-up-to-50-off-coupon-codes-3-aug-2-sep-2013-5834/ ]. 
LOCATION:
URL:https://srilanka-promotions.com/computers-accessories-software/nero-software-up-to-50-off-coupon-codes-3-aug-2-sep-2013-5834/
END:VEVENT
END:VCALENDAR