BEGIN:VCALENDAR
PRODID:-//Sri Lanka Promotions//NONSGML v1.0//EN
VERSION:2.0
CALSCALE:GREGORIAN
METHOD:PUBLISH
X-WR-CALNAME:Sri Lanka Promotions
X-ORIGINAL-URL:https://srilanka-promotions.com
X-WR-CALDESC:Events for Sri Lanka Promotions
BEGIN:VEVENT
DTSTART:20130814T000000
DTEND:20130831T235900
DTSTAMP:20260421T114738
CREATED:20130814T190000
LAST-MODIFIED:20130814T170758
UID:5909@https://srilanka-promotions.com
SUMMARY:FatCow Web Hosting $1/mth Coupon Code (Lowest Ever!) With FREE Domain Name 14 - 31 Aug 2013
DESCRIPTION:FatCow is giving away a $1/mth lowest price ever web hosting special promotion, valid till August 31, 2013.. For more information, visit [ https://srilanka-promotions.com/computers-accessories-software/fatcow-web-hosting-1mth-coupon-code-lowest-ever-with-free-domain-name-14-31-aug-2013-5909/ ]. 
LOCATION:
URL:https://srilanka-promotions.com/computers-accessories-software/fatcow-web-hosting-1mth-coupon-code-lowest-ever-with-free-domain-name-14-31-aug-2013-5909/
END:VEVENT
END:VCALENDAR