BEGIN:VCALENDAR
PRODID:-//Sri Lanka Promotions//NONSGML v1.0//EN
VERSION:2.0
CALSCALE:GREGORIAN
METHOD:PUBLISH
X-WR-CALNAME:Sri Lanka Promotions
X-ORIGINAL-URL:https://srilanka-promotions.com
X-WR-CALDESC:Events for Sri Lanka Promotions
BEGIN:VEVENT
DTSTART:20120622T000000
DTEND:20120624T235900
DTSTAMP:20260424T224144
CREATED:20120618T215043
LAST-MODIFIED:20120625T152535
UID:598@https://srilanka-promotions.com
SUMMARY:Fashion Bug 20% Off Selected Brands 22 - 24 Jun 2012
DESCRIPTION:Fashion Bug will be having a Bug Bonanza 20% off on all Big Boss, Kids Bug, Givo and Hush branded products. Also included in the promotion are selected shalwars, shalwar materials and more. For more information, visit [ https://srilanka-promotions.com/fashion-accessories/fashion-bug-20-off-selected-brands-22-24-jun-2012-598/ ]. 
LOCATION:
URL:https://srilanka-promotions.com/fashion-accessories/fashion-bug-20-off-selected-brands-22-24-jun-2012-598/
END:VEVENT
END:VCALENDAR