BEGIN:VCALENDAR
PRODID:-//Sri Lanka Promotions//NONSGML v1.0//EN
VERSION:2.0
CALSCALE:GREGORIAN
METHOD:PUBLISH
X-WR-CALNAME:Sri Lanka Promotions
X-ORIGINAL-URL:https://srilanka-promotions.com
X-WR-CALDESC:Events for Sri Lanka Promotions
BEGIN:VEVENT
DTSTART:20130906T000000
DTEND:20130930T235900
DTSTAMP:20260421T100525
CREATED:20130914T153746
LAST-MODIFIED:20130914T143153
UID:5985@https://srilanka-promotions.com
SUMMARY:Trend Micro 25% Off Titanium Security Software Promotion 6 - 30 Sep 2013
DESCRIPTION:Get any of the Trend Micro Titanium 2014 product at 25% off for the the month of September. For more information, visit [ https://srilanka-promotions.com/computers-accessories-software/trend-micro-25-off-titanium-security-software-promotion-6-30-sep-2013-5985/ ]. 
LOCATION:
URL:https://srilanka-promotions.com/computers-accessories-software/trend-micro-25-off-titanium-security-software-promotion-6-30-sep-2013-5985/
END:VEVENT
END:VCALENDAR