BEGIN:VCALENDAR
PRODID:-//Sri Lanka Promotions//NONSGML v1.0//EN
VERSION:2.0
CALSCALE:GREGORIAN
METHOD:PUBLISH
X-WR-CALNAME:Sri Lanka Promotions
X-ORIGINAL-URL:https://srilanka-promotions.com
X-WR-CALDESC:Events for Sri Lanka Promotions
BEGIN:VEVENT
DTSTART:20130914T000000
DTEND:20130916T235900
DTSTAMP:20260422T164007
CREATED:20130914T070315
LAST-MODIFIED:20130914T143123
UID:5993@https://srilanka-promotions.com
SUMMARY:Deux Ex, Tomb Raider, Thief & More Games 60% Off Promo 14 - 16 Sep 2013
DESCRIPTION:Deus Ex, Legacy of Kain: Soul Reaver, Thief Gold, Anachronox, and a few more games are going at 60% off. For more information, visit [ https://srilanka-promotions.com/computers-accessories-software/deux-ex-tomb-raider-thief-more-games-60-off-promo-14-16-sep-2013-5993/ ]. 
LOCATION:
URL:https://srilanka-promotions.com/computers-accessories-software/deux-ex-tomb-raider-thief-more-games-60-off-promo-14-16-sep-2013-5993/
END:VEVENT
END:VCALENDAR