BEGIN:VCALENDAR
PRODID:-//Sri Lanka Promotions//NONSGML v1.0//EN
VERSION:2.0
CALSCALE:GREGORIAN
METHOD:PUBLISH
X-WR-CALNAME:Sri Lanka Promotions
X-ORIGINAL-URL:https://srilanka-promotions.com
X-WR-CALDESC:Events for Sri Lanka Promotions
BEGIN:VEVENT
DTSTART:20131009T000000
DTEND:20131231T235900
DTSTAMP:20260423T163318
CREATED:20131003T094901
LAST-MODIFIED:20140101T121208
UID:6115@https://srilanka-promotions.com
SUMMARY:Acronis Software Up To 15% Off Coupon Codes 9 Oct - 31 Dec 2013
DESCRIPTION:Backup or restore everything - not just the files, but the exact configuration of your PC including your operating system, settings, and applications with True Image. Get up to 15% off with these coupon codes. For more information, visit [ https://srilanka-promotions.com/computers-accessories-software/acronis-software-up-to-15-off-coupon-codes-9-oct-31-dec-2013-6115/ ]. 
LOCATION:
URL:https://srilanka-promotions.com/computers-accessories-software/acronis-software-up-to-15-off-coupon-codes-9-oct-31-dec-2013-6115/
END:VEVENT
END:VCALENDAR