BEGIN:VCALENDAR
PRODID:-//Sri Lanka Promotions//NONSGML v1.0//EN
VERSION:2.0
CALSCALE:GREGORIAN
METHOD:PUBLISH
X-WR-CALNAME:Sri Lanka Promotions
X-ORIGINAL-URL:https://srilanka-promotions.com
X-WR-CALDESC:Events for Sri Lanka Promotions
BEGIN:VEVENT
DTSTART:20131012T000000
DTEND:20131015T235900
DTSTAMP:20260421T162643
CREATED:20131012T130343
LAST-MODIFIED:20131013T130806
UID:6145@https://srilanka-promotions.com
SUMMARY:Electronic Arts (EA) Classics Games 60% Off Promo 12 - 15 Oct 2013
DESCRIPTION:Exciting EA Exclusives - Jade Empire for $5.99! Theme Hospital, Dungeon Keeper Gold, Syndicate Plus, and more, for only $2.39. Find out more now. For more information, visit [ https://srilanka-promotions.com/computers-accessories-software/electronic-arts-ea-classics-games-60-off-promo-12-15-oct-2013-6145/ ]. 
LOCATION:
URL:https://srilanka-promotions.com/computers-accessories-software/electronic-arts-ea-classics-games-60-off-promo-12-15-oct-2013-6145/
END:VEVENT
END:VCALENDAR