BEGIN:VCALENDAR
PRODID:-//Sri Lanka Promotions//NONSGML v1.0//EN
VERSION:2.0
CALSCALE:GREGORIAN
METHOD:PUBLISH
X-WR-CALNAME:Sri Lanka Promotions
X-ORIGINAL-URL:https://srilanka-promotions.com
X-WR-CALDESC:Events for Sri Lanka Promotions
BEGIN:VEVENT
DTSTART:20131021T000000
DTEND:20131024T235900
DTSTAMP:20260423T194749
CREATED:20131022T113101
LAST-MODIFIED:20131123T031201
UID:6184@https://srilanka-promotions.com
SUMMARY:Qatar Airways Up To 25% Off Global Promo 21 - 24 Oct 2013
DESCRIPTION:From now to 24th October 2013, save on Economy and Business Class fares throughout the expanding Qatar Airways network.. For more information, visit [ https://srilanka-promotions.com/airlines-flights/qatar-airways-up-to-25-off-global-promo-21-24-oct-2013-6184/ ]. 
LOCATION:
URL:https://srilanka-promotions.com/airlines-flights/qatar-airways-up-to-25-off-global-promo-21-24-oct-2013-6184/
END:VEVENT
END:VCALENDAR