BEGIN:VCALENDAR
PRODID:-//Sri Lanka Promotions//NONSGML v1.0//EN
VERSION:2.0
CALSCALE:GREGORIAN
METHOD:PUBLISH
X-WR-CALNAME:Sri Lanka Promotions
X-ORIGINAL-URL:https://srilanka-promotions.com
X-WR-CALDESC:Events for Sri Lanka Promotions
BEGIN:VEVENT
DTSTART:20131101T000000
DTEND:20131108T235900
DTSTAMP:20260421T083419
CREATED:20131030T135050
LAST-MODIFIED:20131030T035258
UID:6209@https://srilanka-promotions.com
SUMMARY:BreadTalk 1 For 1 Promo @ All Outlets 1 - 8 Nov 2013
DESCRIPTION:BreadTalk will be offering a Buy One Get One FREE promotion from 1 November to 8 November 2013 at all outlets!. For more information, visit [ https://srilanka-promotions.com/dining-restaurants-food/breadtalk-1-for-1-promo-all-outlets-1-8-nov-2013-6209/ ]. 
LOCATION:
URL:https://srilanka-promotions.com/dining-restaurants-food/breadtalk-1-for-1-promo-all-outlets-1-8-nov-2013-6209/
END:VEVENT
END:VCALENDAR