BEGIN:VCALENDAR
PRODID:-//Sri Lanka Promotions//NONSGML v1.0//EN
VERSION:2.0
CALSCALE:GREGORIAN
METHOD:PUBLISH
X-WR-CALNAME:Sri Lanka Promotions
X-ORIGINAL-URL:https://srilanka-promotions.com
X-WR-CALDESC:Events for Sri Lanka Promotions
BEGIN:VEVENT
DTSTART:20131110T000000
DTEND:20131130T235900
DTSTAMP:20260424T025417
CREATED:20131110T134628
LAST-MODIFIED:20131109T230613
UID:6226@https://srilanka-promotions.com
SUMMARY:FlowerAdvisor 10% OFF Storewide Coupon Code 10 - 30 Nov 2013
DESCRIPTION:Here is a coupon code to net 10% OFF at FlowerAdvisor valid for a limited time only. For more information, visit [ https://srilanka-promotions.com/gifts-presents-hampers/floweradvisor-10-off-storewide-coupon-code-10-30-nov-2013-6226/ ]. 
LOCATION:
URL:https://srilanka-promotions.com/gifts-presents-hampers/floweradvisor-10-off-storewide-coupon-code-10-30-nov-2013-6226/
END:VEVENT
END:VCALENDAR