BEGIN:VCALENDAR
PRODID:-//Sri Lanka Promotions//NONSGML v1.0//EN
VERSION:2.0
CALSCALE:GREGORIAN
METHOD:PUBLISH
X-WR-CALNAME:Sri Lanka Promotions
X-ORIGINAL-URL:https://srilanka-promotions.com
X-WR-CALDESC:Events for Sri Lanka Promotions
BEGIN:VEVENT
DTSTART:20131125T000000
DTEND:20131202T235900
DTSTAMP:20260420T172607
CREATED:20131129T130509
LAST-MODIFIED:20131129T121914
UID:6287@https://srilanka-promotions.com
SUMMARY:Trend Micro 50% OFF Storewide Black Friday Promo 25 Nov - 2 Dec 2013
DESCRIPTION:Trend Micro is starting the shopping season out with a bang - the whole store is going at 50% OFF.. For more information, visit [ https://srilanka-promotions.com/computers-accessories-software/trend-micro-50-off-storewide-black-friday-promo-25-nov-2-dec-2013-6287/ ]. 
LOCATION:
URL:https://srilanka-promotions.com/computers-accessories-software/trend-micro-50-off-storewide-black-friday-promo-25-nov-2-dec-2013-6287/
END:VEVENT
END:VCALENDAR