BEGIN:VCALENDAR
PRODID:-//Sri Lanka Promotions//NONSGML v1.0//EN
VERSION:2.0
CALSCALE:GREGORIAN
METHOD:PUBLISH
X-WR-CALNAME:Sri Lanka Promotions
X-ORIGINAL-URL:https://srilanka-promotions.com
X-WR-CALDESC:Events for Sri Lanka Promotions
BEGIN:VEVENT
DTSTART:20120623T000000
DTEND:20120627T235900
DTSTAMP:20260421T002428
CREATED:20120622T152559
LAST-MODIFIED:20120622T152559
UID:629@https://srilanka-promotions.com
SUMMARY:Sarasavi Books Sale @ Colombo Public Library 23 - 27 Jun 2012
DESCRIPTION:Sarasavi The Bookshop is having a Bargain Sale of Books at Colombo Public Library from 23 June to 27 June 2012.. For more information, visit [ https://srilanka-promotions.com/books/sarasavi-books-sale-colombo-public-library-23-27-jun-2012-629/ ]. 
LOCATION:
URL:https://srilanka-promotions.com/books/sarasavi-books-sale-colombo-public-library-23-27-jun-2012-629/
END:VEVENT
END:VCALENDAR