BEGIN:VCALENDAR
PRODID:-//Sri Lanka Promotions//NONSGML v1.0//EN
VERSION:2.0
CALSCALE:GREGORIAN
METHOD:PUBLISH
X-WR-CALNAME:Sri Lanka Promotions
X-ORIGINAL-URL:https://srilanka-promotions.com
X-WR-CALDESC:Events for Sri Lanka Promotions
BEGIN:VEVENT
DTSTART:20131201T000000
DTEND:20131210T235900
DTSTAMP:20260423T180552
CREATED:20131201T083741
LAST-MODIFIED:20131201T060810
UID:6321@https://srilanka-promotions.com
SUMMARY:Bitdefender 70% Off Total Security, Antivirus Plus & Internet Security Promo 1 - 10 Dec 2013
DESCRIPTION:Take advantage now of Bitdefender's Black Friday / Cyber Monday offer with 70% off for Bitdefender Antivirus Plus, Bitdefender Internet Security and Bitdefender Total Security . For more information, visit [ https://srilanka-promotions.com/computers-accessories-software/bitdefender-70-off-total-security-antivirus-plus-internet-security-promo-1-10-dec-2013-6321/ ]. 
LOCATION:
URL:https://srilanka-promotions.com/computers-accessories-software/bitdefender-70-off-total-security-antivirus-plus-internet-security-promo-1-10-dec-2013-6321/
END:VEVENT
END:VCALENDAR