BEGIN:VCALENDAR
PRODID:-//Sri Lanka Promotions//NONSGML v1.0//EN
VERSION:2.0
CALSCALE:GREGORIAN
METHOD:PUBLISH
X-WR-CALNAME:Sri Lanka Promotions
X-ORIGINAL-URL:https://srilanka-promotions.com
X-WR-CALDESC:Events for Sri Lanka Promotions
BEGIN:VEVENT
DTSTART:20131201T000000
DTEND:20131203T235900
DTSTAMP:20260421T170254
CREATED:20131201T072456
LAST-MODIFIED:20131201T065830
UID:6324@https://srilanka-promotions.com
SUMMARY:GOG Classic PC Games 70% OFF Promo 1 - 3 Dec 2013
DESCRIPTION:Get 65 assorted class PC games at 70% off with no risk of getting trampled for a limited time. For more information, visit [ https://srilanka-promotions.com/computers-accessories-software/gog-classic-pc-games-70-off-promo-1-3-dec-2013-6324/ ]. 
LOCATION:
URL:https://srilanka-promotions.com/computers-accessories-software/gog-classic-pc-games-70-off-promo-1-3-dec-2013-6324/
END:VEVENT
END:VCALENDAR