BEGIN:VCALENDAR
PRODID:-//Sri Lanka Promotions//NONSGML v1.0//EN
VERSION:2.0
CALSCALE:GREGORIAN
METHOD:PUBLISH
X-WR-CALNAME:Sri Lanka Promotions
X-ORIGINAL-URL:https://srilanka-promotions.com
X-WR-CALDESC:Events for Sri Lanka Promotions
BEGIN:VEVENT
DTSTART:20131206T000000
DTEND:20131207T235900
DTSTAMP:20260421T114824
CREATED:20131206T142941
LAST-MODIFIED:20131206T143054
UID:6343@https://srilanka-promotions.com
SUMMARY:Abans Up To 50% OFF SALE @ Liberty Plaza 6 - 7 Dec 2013
DESCRIPTION:Abans  is having a SALE with discounts of up to 50% Off at Liberty Plaza. For more information, visit [ https://srilanka-promotions.com/digital-cameras/abans-up-to-50-off-sale-liberty-plaza-6-7-dec-2013-6343/ ]. 
LOCATION:
URL:https://srilanka-promotions.com/digital-cameras/abans-up-to-50-off-sale-liberty-plaza-6-7-dec-2013-6343/
END:VEVENT
END:VCALENDAR