BEGIN:VCALENDAR
PRODID:-//Sri Lanka Promotions//NONSGML v1.0//EN
VERSION:2.0
CALSCALE:GREGORIAN
METHOD:PUBLISH
X-WR-CALNAME:Sri Lanka Promotions
X-ORIGINAL-URL:https://srilanka-promotions.com
X-WR-CALDESC:Events for Sri Lanka Promotions
BEGIN:VEVENT
DTSTART:20140123T000000
DTEND:20140131T235900
DTSTAMP:20260420T121450
CREATED:20140123T141903
LAST-MODIFIED:20140123T141903
UID:6493@https://srilanka-promotions.com
SUMMARY:BreadTalk 1 For 1 Promo @ All Outlets 23 - 31 Jan 2014
DESCRIPTION:Buy One Get one FREE on selected items at all BreadTalk outlets for a limited time. For more information, visit [ https://srilanka-promotions.com/dining-restaurants-food/breadtalk-1-for-1-promo-all-outlets-23-31-jan-2014-6493/ ]. 
LOCATION:
URL:https://srilanka-promotions.com/dining-restaurants-food/breadtalk-1-for-1-promo-all-outlets-23-31-jan-2014-6493/
END:VEVENT
END:VCALENDAR