BEGIN:VCALENDAR
PRODID:-//Sri Lanka Promotions//NONSGML v1.0//EN
VERSION:2.0
CALSCALE:GREGORIAN
METHOD:PUBLISH
X-WR-CALNAME:Sri Lanka Promotions
X-ORIGINAL-URL:https://srilanka-promotions.com
X-WR-CALDESC:Events for Sri Lanka Promotions
BEGIN:VEVENT
DTSTART:20140206T000000
DTEND:20140228T235900
DTSTAMP:20260421T150400
CREATED:20140207T061602
LAST-MODIFIED:20140207T132644
UID:6531@https://srilanka-promotions.com
SUMMARY:LightInTheBox $24 OFF Storewide Coupon Code 6 - 28 Feb 2014
DESCRIPTION:Enjoy $12 off when you make a minimum purchase of $120. Or $24 off when you make a minimum purchase of $240.. For more information, visit [ https://srilanka-promotions.com/department-stores/lightinthebox-24-off-storewide-coupon-code-6-28-feb-2014-6531/ ]. 
LOCATION:
URL:https://srilanka-promotions.com/department-stores/lightinthebox-24-off-storewide-coupon-code-6-28-feb-2014-6531/
END:VEVENT
END:VCALENDAR