BEGIN:VCALENDAR
PRODID:-//Sri Lanka Promotions//NONSGML v1.0//EN
VERSION:2.0
CALSCALE:GREGORIAN
METHOD:PUBLISH
X-WR-CALNAME:Sri Lanka Promotions
X-ORIGINAL-URL:https://srilanka-promotions.com
X-WR-CALDESC:Events for Sri Lanka Promotions
BEGIN:VEVENT
DTSTART:20140207T000000
DTEND:20140209T235900
DTSTAMP:20260424T193600
CREATED:20140207T133256
LAST-MODIFIED:20140207T133256
UID:6539@https://srilanka-promotions.com
SUMMARY:Pizza Hut FREE Personal Pan With Large Pizza Promo 7 - 9 Feb 2014
DESCRIPTION:Buy a large pizza and get a Cheese & Tomato or Cheesy Onion personal pan pizza absolutely FREE for a limited time. For more information, visit [ https://srilanka-promotions.com/dining-restaurants-food/pizza-hut-free-personal-pan-with-large-pizza-promo-7-9-feb-2014-6539/ ]. 
LOCATION:
URL:https://srilanka-promotions.com/dining-restaurants-food/pizza-hut-free-personal-pan-with-large-pizza-promo-7-9-feb-2014-6539/
END:VEVENT
END:VCALENDAR