BEGIN:VCALENDAR
PRODID:-//Sri Lanka Promotions//NONSGML v1.0//EN
VERSION:2.0
CALSCALE:GREGORIAN
METHOD:PUBLISH
X-WR-CALNAME:Sri Lanka Promotions
X-ORIGINAL-URL:https://srilanka-promotions.com
X-WR-CALDESC:Events for Sri Lanka Promotions
BEGIN:VEVENT
DTSTART:20140211T000000
DTEND:20140218T235900
DTSTAMP:20260426T014255
CREATED:20140211T165707
LAST-MODIFIED:20140211T165707
UID:6560@https://srilanka-promotions.com
SUMMARY:Qatar Airways Up To 40% OFF 2nd Business Class Ticket Promo 11 - 18 Feb 2014
DESCRIPTION:Share the joy of flying Qatar Airways Business Class. Buy one Business Class ticket and save up to 40% on the second ticket for your travel companion.. For more information, visit [ https://srilanka-promotions.com/airlines-flights/qatar-airways-up-to-40-off-2nd-business-class-ticket-promo-11-18-feb-2014-6560/ ]. 
LOCATION:
URL:https://srilanka-promotions.com/airlines-flights/qatar-airways-up-to-40-off-2nd-business-class-ticket-promo-11-18-feb-2014-6560/
END:VEVENT
END:VCALENDAR