BEGIN:VCALENDAR
PRODID:-//Sri Lanka Promotions//NONSGML v1.0//EN
VERSION:2.0
CALSCALE:GREGORIAN
METHOD:PUBLISH
X-WR-CALNAME:Sri Lanka Promotions
X-ORIGINAL-URL:https://srilanka-promotions.com
X-WR-CALDESC:Events for Sri Lanka Promotions
BEGIN:VEVENT
DTSTART:20140310T000000
DTEND:20140323T235900
DTSTAMP:20260425T235522
CREATED:20140310T142523
LAST-MODIFIED:20140317T164909
UID:6662@https://srilanka-promotions.com
SUMMARY:Manhattan Fish Market 1 For 1 Grilled Glory Dory Promo 10 - 23 Mar 2014
DESCRIPTION:The Manhattan Fish Market Sri Lanka is offering a Buy 1 Get 1 FREE Grilled Glory Dory for a limited time. For more information, visit [ https://srilanka-promotions.com/dining-restaurants-food/manhattan-fish-market-1-for-1-grilled-glory-dory-promo-10-16-mar-2014-6662/ ]. 
LOCATION:
URL:https://srilanka-promotions.com/dining-restaurants-food/manhattan-fish-market-1-for-1-grilled-glory-dory-promo-10-16-mar-2014-6662/
END:VEVENT
END:VCALENDAR