BEGIN:VCALENDAR
PRODID:-//Sri Lanka Promotions//NONSGML v1.0//EN
VERSION:2.0
CALSCALE:GREGORIAN
METHOD:PUBLISH
X-WR-CALNAME:Sri Lanka Promotions
X-ORIGINAL-URL:https://srilanka-promotions.com
X-WR-CALDESC:Events for Sri Lanka Promotions
BEGIN:VEVENT
DTSTART:20140320T000000
DTEND:20140430T235900
DTSTAMP:20260421T032152
CREATED:20140320T110114
LAST-MODIFIED:20140320T133243
UID:6674@https://srilanka-promotions.com
SUMMARY:CyberLink 5% OFF Storewide Coupon Code 20 Mar - 30 Apr 2014
DESCRIPTION:Enjoy an extra 5% savings by using the coupon code below. For more information, visit [ https://srilanka-promotions.com/computers-accessories-software/cyberlink-5-off-storewide-coupon-code-20-mar-30-apr-2014-6674/ ]. 
LOCATION:
URL:https://srilanka-promotions.com/computers-accessories-software/cyberlink-5-off-storewide-coupon-code-20-mar-30-apr-2014-6674/
END:VEVENT
END:VCALENDAR