BEGIN:VCALENDAR
PRODID:-//Sri Lanka Promotions//NONSGML v1.0//EN
VERSION:2.0
CALSCALE:GREGORIAN
METHOD:PUBLISH
X-WR-CALNAME:Sri Lanka Promotions
X-ORIGINAL-URL:https://srilanka-promotions.com
X-WR-CALDESC:Events for Sri Lanka Promotions
BEGIN:VEVENT
DTSTART:20140321T000000
DTEND:20140321T235900
DTSTAMP:20260421T032047
CREATED:20140320T141029
LAST-MODIFIED:20140320T143014
UID:6679@https://srilanka-promotions.com
SUMMARY:Samsung Galaxy S5 Launch @ Dialog Excel World 21 Mar 2014
DESCRIPTION:Be the first to touch it! Experience Samsung Galaxy S5 for the first time. For more information, visit [ https://srilanka-promotions.com/smartphones-mobile-phones/samsung-galaxy-s5-launch-dialog-excel-world-21-mar-2014-6679/ ]. 
LOCATION:
URL:https://srilanka-promotions.com/smartphones-mobile-phones/samsung-galaxy-s5-launch-dialog-excel-world-21-mar-2014-6679/
END:VEVENT
END:VCALENDAR